BEGIN:VCALENDAR
VERSION:2.0
PRODID:-//eventon.com NONSGML v1.0//EN
CALSCALE:GREGORIAN
METHOD:PUBLISH
BEGIN:VEVENT
UID:69ecf36c40491
DTSTAMP:20260425T170132Z
DTSTART:20260425
DTEND:20260426
LOCATION:Foxfield Races
SUMMARY:Foxfield Spring Races 2026
DESCRIPTION:The 2026 Foxfield Spring Races are scheduled for Saturday\,  A
 pril 25\,  2026\,  in Charlottesville\,  featuring nationally recognized st
 eeplechase racing\,  vibrant fashion\,  and tailgating. Click LEARN MORE to
  get the full schedule and to purchase tickets.\nhttps://wineandcountrylife
 .com/events/foxfield-spring-races-2026/
URL:https://wineandcountrylife.com/events/foxfield-spring-races-2026/
END:VEVENT
END:VCALENDAR